BEGIN:VCALENDAR
VERSION:2.0
PRODID:-//Alpha - ECPv5.8.0//NONSGML v1.0//EN
CALSCALE:GREGORIAN
METHOD:PUBLISH
X-WR-CALNAME:Alpha
X-ORIGINAL-URL:https://espacealpha.org
X-WR-CALDESC:évènements pour Alpha
BEGIN:VTIMEZONE
TZID:UTC
BEGIN:STANDARD
TZOFFSETFROM:+0000
TZOFFSETTO:+0000
TZNAME:UTC
DTSTART:20230101T000000
END:STANDARD
END:VTIMEZONE
BEGIN:VEVENT
DTSTART;VALUE=DATE:20230419
DTEND;VALUE=DATE:20230420
DTSTAMP:20260424T133636
CREATED:20230331T094735Z
LAST-MODIFIED:20230417T105238Z
UID:6609-1681862400-1681948799@espacealpha.org
SUMMARY:E atelier famille des organisateurs de Parcours couple\, duo\, parents - 19 avril 2023
DESCRIPTION:Voici un nouvel E atelier sur l’enregistrement d’un parcours et son financement !\n\nLa Nouvelle plateforme d’enregistrement et de guidance des parcours couple\, duo et parents est disponible. Nous aurons donc deux grands sujets à aborder :  \n\nLa nouvelle manière d’enregistrer un parcours grâce à cette nouvelle plateforme\nLe financement d’un parcours\n\nDeux grands sujets qui vous invitent à être présents en équipe ! \nEn ligne \nRendez-vous de 20h30 à 21h45 sur Zoom. \nInscriptions : Cliquez ici \nContact : \nResponsable Parcours famille > William Galley\nNuméro de téléphone > 0782695512\nMail > william.galley@parcoursalpha.fr
URL:https://espacealpha.org/agenda/e-atelier-familles/
CATEGORIES:Parcours Couple,Parcours Duo,Parcours Parents
ATTACH;FMTTYPE=image/png:https://espacealpha.org/wp-content/uploads/2023/03/E-atelier-Publication-Facebook-Paysage-1.png
END:VEVENT
BEGIN:VEVENT
DTSTART;VALUE=DATE:20230419
DTEND;VALUE=DATE:20230420
DTSTAMP:20260424T133636
CREATED:20230407T080759Z
LAST-MODIFIED:20230417T120032Z
UID:6622-1681862400-1681948799@espacealpha.org
SUMMARY:Formation Alpha Ile de France (Pt 1)- En ligne - 19 avril 2023
DESCRIPTION:Cette soirée organisée par des délégués Alpha d’Ile de France\,est ouverte à tous ceux qui souhaitent découvrir ce qu’est un Parcours Alpha.\n– Lors de cette première soirée vous aborderez l’ADN Alpha\, les bonnes pratiques pour constituer votre équipe\, et la place essentielle de la prière dans ce projet.\n– La deuxième soirée se déroulera le 10 mai > Inscriptions juste ici \nPrenez le temps de vous former en équipe avec nous\, vous aurez l’occasion de nous poser toutes vos questions ! \nRendez-vous 19 avril 2023 en ligne ! \nHoraires : 20h30 à 22h15 \nInscription : Cliquez ici \nContact :\nCoordinateur Alpha Hauts-de-Seine :\nMarie Anne Weulersse\ncoord.alpha92@gmail.com\n\nGratuit 
URL:https://espacealpha.org/agenda/formation-alpha/
CATEGORIES:Formation
ATTACH;FMTTYPE=image/png:https://espacealpha.org/wp-content/uploads/2023/04/Visuel-Formation-en-ligne.png
END:VEVENT
END:VCALENDAR