BEGIN:VCALENDAR
VERSION:2.0
PRODID:-//Alpha - ECPv5.8.0//NONSGML v1.0//EN
CALSCALE:GREGORIAN
METHOD:PUBLISH
X-WR-CALNAME:Alpha
X-ORIGINAL-URL:https://espacealpha.org
X-WR-CALDESC:évènements pour Alpha
BEGIN:VTIMEZONE
TZID:UTC
BEGIN:STANDARD
TZOFFSETFROM:+0000
TZOFFSETTO:+0000
TZNAME:UTC
DTSTART:20230101T000000
END:STANDARD
END:VTIMEZONE
BEGIN:VEVENT
DTSTART;VALUE=DATE:20230524
DTEND;VALUE=DATE:20230525
DTSTAMP:20260424T120130
CREATED:20230511T152847Z
LAST-MODIFIED:20230511T152847Z
UID:7509-1684886400-1684972799@espacealpha.org
SUMMARY:E-Atelier des organisateurs des Parcours Duo par Alpha- 24 mai 2023
DESCRIPTION:Voici un nouvel e-atelier qui nous permettra de faire le bilan de l’année sur les Parcours Duo. \nPlusieurs parcours famille ont été lancés cette année d’autres vont être proposés\, voici une occasion de faire un bilan et de réfléchir ensemble à l’organisation de l’année prochaine. \nEn ligne :\nRendez-vous de 20h30 à 22h00 sur Zoom.\n \nInscription : cliquez ici\nContact : \nResponsable Parcours Famille : William Galley \nTel: 07 82 69 55 12\nMail: william.galley@parcoursalpha.fr \nGratuit 
URL:https://espacealpha.org/agenda/e-atelier-des-organisateurs-des-parcours-duo-par-alpha-24-mai-2023/
CATEGORIES:Parcours Duo
ATTACH;FMTTYPE=image/png:https://espacealpha.org/wp-content/uploads/2023/05/Visuel-Parcours-Duo.png
END:VEVENT
END:VCALENDAR