BEGIN:VCALENDAR
VERSION:2.0
PRODID:-//Alpha - ECPv5.8.0//NONSGML v1.0//EN
CALSCALE:GREGORIAN
METHOD:PUBLISH
X-WR-CALNAME:Alpha
X-ORIGINAL-URL:https://espacealpha.org
X-WR-CALDESC:évènements pour Alpha
BEGIN:VTIMEZONE
TZID:UTC
BEGIN:STANDARD
TZOFFSETFROM:+0000
TZOFFSETTO:+0000
TZNAME:UTC
DTSTART:20240101T000000
END:STANDARD
END:VTIMEZONE
BEGIN:VEVENT
DTSTART;VALUE=DATE:20240515
DTEND;VALUE=DATE:20240516
DTSTAMP:20260423T183532
CREATED:20240418T081112Z
LAST-MODIFIED:20240418T081112Z
UID:8172-1715731200-1715817599@espacealpha.org
SUMMARY:Présentation des Parcours Familles - 15 mai à 9h
DESCRIPTION:Depuis plus de vingt ans\, Alpha propose des Parcours pour les familles. \n\nLes Parcours Duo pour réfléchir à l’engagement dans la vie conjugale\nLes Parcours Couples pour soutenir la conjugalité\nLes Parcours Parents pour les accompagner sur les questions éducative\n\nObjectif de ces parcours : soutenir les familles pour qu’elles donnent au monde le meilleur d’elles-mêmes. \nNous sommes heureux de vous inviter à la présentation des parcours famille :\n– Pour comprendre l’impact qu’ils ont dans les familles qu’elles soit chrétiennes ou non\n– Pour comprendre comment les mettre en œuvre dans votre église \nInscriptions : ICI \nEn ligne \nRendez-vous de 9h à 9h45 sur Zoom. \nContact : \nResponsable Parcours Famille : William Galley\nTel: 07 82 69 55 12\nMail: william.galley@parcoursalpha.fr  \n 
URL:https://espacealpha.org/agenda/presentation-des-parcours-familles-15-mai-a-9h/
CATEGORIES:Parcours Couple,Parcours Duo,Parcours Parents
ATTACH;FMTTYPE=image/png:https://espacealpha.org/wp-content/uploads/2024/04/Visuel-Parcours-Familles-2.png
END:VEVENT
BEGIN:VEVENT
DTSTART;VALUE=DATE:20240515
DTEND;VALUE=DATE:20240516
DTSTAMP:20260423T183532
CREATED:20240418T081410Z
LAST-MODIFIED:20240418T085113Z
UID:8202-1715731200-1715817599@espacealpha.org
SUMMARY:Présentation des Parcours Familles – 15 mai à 20h30
DESCRIPTION:Depuis plus de vingt ans\, Alpha propose des Parcours pour les familles. \n\nLes Parcours Duo pour réfléchir à l’engagement dans la vie conjugale\nLes Parcours Couples pour soutenir la conjugalité\nLes Parcours Parents pour les accompagner sur les questions éducative\n\nObjectif de ces parcours : soutenir les familles pour qu’elles donnent au monde le meilleur d’elles-mêmes. \nNous sommes heureux de vous inviter à la présentation des parcours famille :\n– Pour comprendre l’impact qu’ils ont dans les familles qu’elles soit chrétiennes ou non\n– Pour comprendre comment les mettre en œuvre dans votre église \nInscriptions : ICI \nEn ligne \nRendez-vous de 20hà 21h15 sur Zoom. \nContact : \nResponsable Parcours Famille : William Galley\nTel: 07 82 69 55 12\nMail: william.galley@parcoursalpha.fr  \n 
URL:https://espacealpha.org/agenda/presentation-des-parcours-familles-15-mai-a-20h30/
CATEGORIES:Parcours Couple,Parcours Duo,Parcours Parents
ATTACH;FMTTYPE=image/png:https://espacealpha.org/wp-content/uploads/2024/04/Visuel-Parcours-Familles-3.png
END:VEVENT
END:VCALENDAR