BEGIN:VCALENDAR
VERSION:2.0
PRODID:-//Alpha - ECPv5.8.0//NONSGML v1.0//EN
CALSCALE:GREGORIAN
METHOD:PUBLISH
X-WR-CALNAME:Alpha
X-ORIGINAL-URL:https://espacealpha.org
X-WR-CALDESC:évènements pour Alpha
BEGIN:VTIMEZONE
TZID:UTC
BEGIN:STANDARD
TZOFFSETFROM:+0000
TZOFFSETTO:+0000
TZNAME:UTC
DTSTART:20260101T000000
END:STANDARD
END:VTIMEZONE
BEGIN:VEVENT
DTSTART;VALUE=DATE:20260129
DTEND;VALUE=DATE:20260130
DTSTAMP:20260421T153354
CREATED:20251124T162502Z
LAST-MODIFIED:20251219T151600Z
UID:9965-1769644800-1769731199@espacealpha.org
SUMMARY:Soirée découverte "Un regard sur le monde carcéral"- 29 janvier - En ligne
DESCRIPTION:Soirée découverte par des aumôniers chrétiens.\nCette soirée est ouverte à tous ceux qui s’intéressent au monde carcéral et souhaitent découvrir des formes d’engagement : \n\nAux bénévoles qui participent à l’organisation des parcours Alpha\,\nAux invités qui ont suivi un parcours Alpha\,\nAux amis d’Alpha.\n\n\n\nCette visio-conférence sera préparée avec les aumôniers nationaux catholique et protestant et avec le témoignage d’aumôniers qui organisent des parcours Alpha dans les établissements pénitentiaires où ils interviennent. Ils viendront témoigner de leurs actions\, expliquer le cadre dans lequel ils interviennent et les enjeux de leur engagement. \nDans le monde carcéral\, les engagements sont nombreux et variés : ils peuvent aller d’un présence régulière et importante\, comme celle d’un aumônier\, à une contribution ponctuelle de quelques heures par an\, par exemple pour préparer un colis de Noël. Dans tous les cas\, il s’agit de s’inscrire dans le cadre des aumôneries de prison en France\, assurer le service du culte et offrir aux personnes détenues qui le désirent une assistance spirituelle. \nInscriptions : ICI \nDates et horaires :  \nJeudi 29 janvier de 20h30 à 22h \n\nEn ligne ! \nContact :  \nThierry Saule:\nthierry.saule@parcoursalpha.fr  \n\n 
URL:https://espacealpha.org/agenda/soiree-decouverte-un-regard-sur-le-monde-carceral-29-janvier-en-ligne/
CATEGORIES:Alpha Prison
ATTACH;FMTTYPE=image/png:https://espacealpha.org/wp-content/uploads/2025/11/Billet-Web-Journée-29-janvier.png
END:VEVENT
BEGIN:VEVENT
DTSTART;VALUE=DATE:20260129
DTEND;VALUE=DATE:20260130
DTSTAMP:20260421T153354
CREATED:20251114T141627Z
LAST-MODIFIED:20260112T104926Z
UID:9956-1769644800-1769731199@espacealpha.org
SUMMARY:Temps de découverte des Parcours Alpha - 29 janvier à 14h - En ligne
DESCRIPTION:Venez découvrir les parcours Alpha\, une expérience unique missionnaire. \nVous pourrez choisir le type de parcours qui vous intéresse : parcours Alpha\, parcours Alpha jeunes ou parcours pour les couples et les familles. \n\nOccasion d’écouter des témoignages\, d’entendre les responsables nationaux d’Alpha en France vous présenter les objectifs et les conditions de mise en œuvre des parcours et de répondre à vos questions.\n\nInscriptions : ICI\n\nDates et horaires : \n\njeu. 29 janv. 2026 de 14h00 à 15h00\n\nContact :\n \nWilliam Galley\n Mail: william.galley@parcoursalpha.fr 
URL:https://espacealpha.org/agenda/temps-de-decouverte-des-parcours-alpha-15-janvier-a-14h-en-ligne/
ATTACH;FMTTYPE=image/jpeg:https://espacealpha.org/wp-content/uploads/2025/11/temps-de-decouverte-des-parcours-alpha-29-janvier-2026.jpg
END:VEVENT
END:VCALENDAR