BEGIN:VCALENDAR
VERSION:2.0
PRODID:-//Alpha - ECPv5.8.0//NONSGML v1.0//EN
CALSCALE:GREGORIAN
METHOD:PUBLISH
X-WR-CALNAME:Alpha
X-ORIGINAL-URL:https://espacealpha.org
X-WR-CALDESC:évènements pour Alpha
BEGIN:VTIMEZONE
TZID:UTC
BEGIN:STANDARD
TZOFFSETFROM:+0000
TZOFFSETTO:+0000
TZNAME:UTC
DTSTART:20260101T000000
END:STANDARD
END:VTIMEZONE
BEGIN:VEVENT
DTSTART;VALUE=DATE:20260218
DTEND;VALUE=DATE:20260219
DTSTAMP:20260422T053840
CREATED:20260121T143259Z
LAST-MODIFIED:20260121T143259Z
UID:10080-1771372800-1771459199@espacealpha.org
SUMMARY:Formation B.A. B-A et les petits groupes - 18 février - En ligne
DESCRIPTION:Cette formation B.A-BA sera suivi le même soir d’une formation des animateurs de petits groupes. \nLors de cette rencontre\, vous aurez les B.A.-BA du parcours Alpha. Nous partirons de vos questions\, nous aborderons les techniques d’invitation\, nous donnerons des définitions claires du parcours\, de ses objectifs\, de sa méthode. C’est la formation de « base » de tous les bénévoles. \nInscriptions : ICI \nDates et horaires : \nMardi 18 février de 20h à 22h \nContact :\nWilliam Galley:\nwilliam.galley@parcoursalpha.fr \n 
URL:https://espacealpha.org/agenda/formation-b-a-b-a-et-les-petits-groupes-18-fevrier-en-ligne/
CATEGORIES:Formation
ATTACH;FMTTYPE=image/jpeg:https://espacealpha.org/wp-content/uploads/2026/01/formation-b-a-ba-18-fevrier-2026.jpg
END:VEVENT
END:VCALENDAR