BEGIN:VCALENDAR
VERSION:2.0
PRODID:-//Alpha - ECPv5.8.0//NONSGML v1.0//EN
CALSCALE:GREGORIAN
METHOD:PUBLISH
X-WR-CALNAME:Alpha
X-ORIGINAL-URL:https://espacealpha.org
X-WR-CALDESC:évènements pour Alpha
BEGIN:VTIMEZONE
TZID:UTC
BEGIN:STANDARD
TZOFFSETFROM:+0000
TZOFFSETTO:+0000
TZNAME:UTC
DTSTART:20260101T000000
END:STANDARD
END:VTIMEZONE
BEGIN:VEVENT
DTSTART;VALUE=DATE:20260512
DTEND;VALUE=DATE:20260513
DTSTAMP:20260421T111032
CREATED:20260420T092903Z
LAST-MODIFIED:20260420T092903Z
UID:10158-1778544000-1778630399@espacealpha.org
SUMMARY:Cheminer ensemble avec Alpha vers et après le baptême - 12 mai - En ligne
DESCRIPTION:Comment ouvrir grand nos portes pour accueillir les baptisés d’aujourd’hui et de demain avec Alpha ? \nLa France connaît depuis plusieurs années une augmentation significative des demandes de baptême. Quelle grâce pour nos communautés Chaque personne qui frappe à la porte de l’Église est un cadeau\, et nous voulons l’accueillir avec soin et attention.\nChez Alpha\, nous avons la joie d’accompagner depuis longtemps des futurs baptisés et de nouveaux chrétiens au fil des parcours. Ce nouvel élan que nous observons nous touche profondément et nous pousse à nous interroger\, avec humilité\, sur la contribution spécifique qu’Alpha peut offrir dans ce cheminement. \nC’est pourquoi nous souhaitons vous inviter à ce webinaire\, non pas pour donner des leçons\, mais pour réfléchir et chercher ensemble\, aux côtés de ceux qui\, sur le terrain\, accompagnent chaque jour ces hommes et ces femmes en chemin vers le baptême. \nAu programme : apport\, témoignage\, échanges \nInscriptions : ICI \nDates et horaires : \nmar. 12 mai 2026 de 20h00 à 21h45\n\n \nContact : \nWilliam Galley\n Mail: william.galley@parcoursalpha.fr 
URL:https://espacealpha.org/agenda/cheminer-ensemble-avec-alpha-vers-et-apres-le-bapteme-12-mai-en-ligne/
ATTACH;FMTTYPE=image/jpeg:https://espacealpha.org/wp-content/uploads/2026/04/laccueil-des-futurs-et-nouveaux-baptises-dans-les-parcours-alpha-12-mai-2026.jpg
END:VEVENT
END:VCALENDAR