BEGIN:VCALENDAR
VERSION:2.0
PRODID:-//Alpha - ECPv5.8.0//NONSGML v1.0//EN
CALSCALE:GREGORIAN
METHOD:PUBLISH
X-WR-CALNAME:Alpha
X-ORIGINAL-URL:https://espacealpha.org
X-WR-CALDESC:évènements pour Alpha
BEGIN:VTIMEZONE
TZID:UTC
BEGIN:STANDARD
TZOFFSETFROM:+0000
TZOFFSETTO:+0000
TZNAME:UTC
DTSTART:20260101T000000
END:STANDARD
END:VTIMEZONE
BEGIN:VEVENT
DTSTART;VALUE=DATE:20260411
DTEND;VALUE=DATE:20260412
DTSTAMP:20260419T162424
CREATED:20260205T140141Z
LAST-MODIFIED:20260320T104118Z
UID:10090-1775865600-1775951999@espacealpha.org
SUMMARY:Formation Prière pour tous les serviteurs de parcours - 11 avril 2026
DESCRIPTION:Chers amis\, \nNous avons la joie de vous inviter à la formation prière spécialement pensée pour les équipiers de parcours Alpha ! 🙏 \nL’objectif de ce temps ensemble est de développer et ancrer une véritable culture Alpha de prière dans nos équipes : une prière simple\, accessible à tous et au cœur de nos parcours. \nInscriptions : ICI \nRendez-vous le samedi 11 avril 2026 de 9h30 à 17h30 \n📍Eglise Saint-Pierre-du-Gros-Caillou\n92\, rue Saint-Dominique\n75007 Paris  \n🗓️Au programme :\n-Des moments pour apprendre à développer une culture de prière en équipe et avec les invités\n-Des thématiques telles que : qu’est-ce que la prière à Alpha ?\,  la prière fraternelle lors du week-end Alpha\, la prière de guérison et bien d’autres …\n-Des mises en pratique concrètes à travers des animations\, des petits groupes et des partages \nCe sera un temps à la fois formateur\, fraternel et très concret\, pour nous aider à grandir dans la confiance et la joie de prier ensemble. \n🏠Une liste d’hébergement vous sera envoyé très bientôt ! \nNous espérons vraiment vous y retrouver nombreux ! \nFraternellement\, \nL’équipe Alpha \n  \nTarif \n\n\nParticipation libre (conseillée 15€) (l’association Parcours Alpha ne vit que de dons pour communiquer\, former et créer des ressources pédagogiques pour 20 000 invités par an)\nN’hésitez pas à demander à votre église un soutien financier.\n\n« Que chacun donne ce qu’il aura décidé en son coeur\, sans regrets ni contrainte\, car Dieu aime celui qui donne avec joie. » Corinthiens 9:7\n\n\nContact \nSarah Adjabi :\nsarah.adjabi@parcoursalpha.fr  \nPour des questions techniques relatives à billetweb: victoria.kalinowski@parcoursalpha.fr \n 
URL:https://espacealpha.org/agenda/formation-priere-pour-tous-les-serviteurs-de-parcours-11-avril-2026/
LOCATION:92\, rue Saint-Dominique 75007 Paris
CATEGORIES:Formation
ATTACH;FMTTYPE=image/png:https://espacealpha.org/wp-content/uploads/2026/02/TEMPLATE-VISUEL-FORMATION-11.png
END:VEVENT
END:VCALENDAR