BEGIN:VCALENDAR
VERSION:2.0
PRODID:-//Alpha - ECPv5.8.0//NONSGML v1.0//EN
CALSCALE:GREGORIAN
METHOD:PUBLISH
X-WR-CALNAME:Alpha
X-ORIGINAL-URL:https://espacealpha.org
X-WR-CALDESC:évènements pour Alpha
BEGIN:VTIMEZONE
TZID:UTC
BEGIN:STANDARD
TZOFFSETFROM:+0000
TZOFFSETTO:+0000
TZNAME:UTC
DTSTART:20230101T000000
END:STANDARD
END:VTIMEZONE
BEGIN:VEVENT
DTSTART;VALUE=DATE:20230301
DTEND;VALUE=DATE:20230302
DTSTAMP:20260424T132740
CREATED:20230203T104624Z
LAST-MODIFIED:20230207T103614Z
UID:6379-1677628800-1677715199@espacealpha.org
SUMMARY:E-Atelier des organisateurs des Parcours Couple par Alpha- 1 mars 2023
DESCRIPTION:Voici un nouvel e-atelier qui nous permettra d’échanger sur l’actualité de nos parcours couple. Ce qui se vit ou ce qui s’est vécu ou ce qui va se vivre! \nNous évoquerons particulièrement les moyens d’évaluation de nos parcours et la mise en place de l’Espace Famille. Nouvelle plateforme d’enregistrement et de guidance des parcours couple\, duo et parents. \nEn ligne \nRendez-vous de 20h30 à 22h00 sur Zoom. \nInscription : cliquez ici\nContact\nResponsable Parcours Famille : William Galley\nTel: 07 82 69 55 12\nMail: william.galley@parcoursalpha.fr
URL:https://espacealpha.org/agenda/e-ateliers-des-organisateurs-des-parcours-couple-par-alpha-1-mars-2023/
CATEGORIES:Parcours Couple
ATTACH;FMTTYPE=image/png:https://espacealpha.org/wp-content/uploads/2023/02/formation-des-organisateurs-des-parcours-couple-par-alpha-1er-mars-2023-en-ligne.png
END:VEVENT
BEGIN:VEVENT
DTSTART;VALUE=DATE:20230321
DTEND;VALUE=DATE:20230322
DTSTAMP:20260424T132740
CREATED:20230302T130451Z
LAST-MODIFIED:20230306T113253Z
UID:6436-1679356800-1679443199@espacealpha.org
SUMMARY:E-Atelier Alpha - En ligne - 21 mars 2023
DESCRIPTION:Inviter avec succès à un parcours Alpha\nComment inviter au loin en respectant la liberté de nos interlocuteurs ?\nCet E-atelier nous permettra d’échanger sur le sujet clé de l’invitation. Un temps pour réfléchir nos manières d’inviter avec douceur et sagesse. \nDes clés et des témoignages pour permettre de formuler une invitation juste\, claire\, respectueuse et authentique. Avec deux intervenants\, dont l’un vit cette intention constante de l’évangélisation dans le souci permanent de respecter l’autre dans son choix et l’autre\, responsable Alpha de la paroisse Ste Blandine\, témoigne du processus par lequel ils invitent aux Parcours. Une double parole puissante et inspirante via un binôme : homme pasteur évangélique/femme laïque catholique. \nIntervenants : \nPasteur Jacques Weiner : « Epoux de Marie Pierre depuis 37 ans\, nous avons 2 fils et 7 petits enfants. Aimer et servir Dieu est le le ciment de nos vies\, après avoir été impactés tous deux par l’Evangile à la fin de la période lycéenne. Pasteur dès l’âge de 25 ans\, en région parisienne puis à Aix en Provence\, l’amour pour l’Eglise a profondément marqué ma vie. Depuis leur début en France les parcours Alpha ont été porteurs de beaux fruits et de dynamisme dans mon expérience pastorale. La prise de conscience d’une transmission plus pertinente de l’Evangile a été et demeure au cœur de mes priorités\, alimentée par un engagement professionnel de 9 ans dans le cadre de la ‘Direction de la Politique’ d’Aix en Provence. Aujourd’hui\, administrativement retraité\, ma priorité missionnaire se développe et se résume par : Etre témoin de Jésus-Christ\, vivre auprès des personnes éloignées de Dieu\, faire des disciples\, les former\, afin qu’ils puissent à leur tour transmettre l’Evangile\, dans la perspective d’un mouvement glorifiant Dieu. »\n\nTémoin :  Anne Ambrosse\, 51 ans\, vendeuse chez Linvosges mère de 4 enfants ( âgés de 18 à 28 ans ). « Étudiante à l’Iper il y a dix ans\, j’ai souhaité monter un parcours alpha dans ma paroisse sainte Blandine\, qui était au début de son projet. Nous organisons deux parcours par an : de janvier à avril et de septembre à décembre. »  \nCet événement aura lieu sur Zoom le mardi 21 mars de 12h30 à 13h45 \nInscription : cliquez ici \nContact : contact@parcoursalpha.fr
URL:https://espacealpha.org/agenda/e-atelier-alpha-21-mars-2023/
CATEGORIES:Formation
ATTACH;FMTTYPE=image/png:https://espacealpha.org/wp-content/uploads/2023/03/Visuel-site.png
END:VEVENT
BEGIN:VEVENT
DTSTART;VALUE=DATE:20230331
DTEND;VALUE=DATE:20230402
DTSTAMP:20260424T132740
CREATED:20220519T143008Z
LAST-MODIFIED:20230123T165705Z
UID:5749-1680220800-1680393599@espacealpha.org
SUMMARY:Parcours Phare - Paris - 2022 - 2023
DESCRIPTION:Devenez un groupe formateur de jeunes disciples-missionnaires : la Transformation Pastorale chez les jeunes ! \nRéservez votre place pour découvrir la vision\, les 5 essentiels et leur application\, explorer le processus de croissance des disciples-missionnaires avec d’autres responsables de jeunes.\n  \n\nPasser d’un empilement d’activités à un processus intentionnel de croissance\nLe but de cet évènement est de vous aider à former un groupe avec une structure saine\, un groupe dont la dynamique ne repose pas uniquement sur le responsable de jeunes\, mais qui implique chaque jeune à différents niveaux. Nous voulons vous aider à constituer un groupe qui équipe les jeunes. \n\n\nVenez vous former\, échanger\, et prier pour repartir équipés et boostés dans votre mission. \n\nAu programme :\n\nSession 1 – Mieux se connaître pour mieux servir : 14 -15 Octobre 2022 \nSession 2 – Faire émerger d’autres leaders : 9 – 10 décembre 2022 \nSession 3 – Mettre en place la transformation : 20 – 21 janvier 2023 \nSession 4 – Construire et communiquer une vision inspirante : 31 mars – 1er avril 2023 \n\nInscription :\n\nSessions 1 et 2 pour les Responsables de Jeunes : Cliquez ici\nSessions 3 et 4 pour les Responsables de Jeunes : Cliquez ici\n\nTarifs :\nResponsable de jeunes (plus de 30 ans) : 150€\nResponsable de jeunes (moins de 30 ans) : 90€ \nHoraires :\nVendredi : 20h – 22h \nSamedi : 9h00  – 17h00 \nLieu :\nAlliance biblique française\n6 rue Lhomond\n75005 Paris \nInfos : pascaline.stgeorges@parcoursalpha.fr
URL:https://espacealpha.org/agenda/parcours-phare-paris-2022-2023/
CATEGORIES:Alpha Jeunes
ATTACH;FMTTYPE=image/png:https://espacealpha.org/wp-content/uploads/2022/05/httpsespacealpha.orgagenda.png
END:VEVENT
END:VCALENDAR