BEGIN:VCALENDAR
VERSION:2.0
PRODID:-//Alpha - ECPv5.8.0//NONSGML v1.0//EN
CALSCALE:GREGORIAN
METHOD:PUBLISH
X-WR-CALNAME:Alpha
X-ORIGINAL-URL:https://espacealpha.org
X-WR-CALDESC:évènements pour Alpha
BEGIN:VTIMEZONE
TZID:UTC
BEGIN:STANDARD
TZOFFSETFROM:+0000
TZOFFSETTO:+0000
TZNAME:UTC
DTSTART:20230101T000000
END:STANDARD
END:VTIMEZONE
BEGIN:VEVENT
DTSTART;VALUE=DATE:20231106
DTEND;VALUE=DATE:20231205
DTSTAMP:20260424T000820
CREATED:20231011T151818Z
LAST-MODIFIED:20231011T153329Z
UID:7881-1699228800-1701734399@espacealpha.org
SUMMARY:Parcours Duo - En ligne
DESCRIPTION:Les Parcours Duo s’adressent à tous les couples non mariés\, qui cheminent dans leur relation et désirent réfléchir à l’engagement en amont ou en complément de la préparation au mariage. \nNous nous retrouverons pour 6 soirées chaque lundi ! \nInscriptions : ICI \nDates et horaires : \n\nDu lun. 06 nov. 2023 à 20h30 au lun. 04 déc. 2023 à 22h30 \nEn ligne : le lien Zoom est envoyé quelques jours avant le début du Parcours. \nContact : \nLoup et Priscilla Lucas\nparcoursduo.asnieres92@gmail.com \n\n 
URL:https://espacealpha.org/agenda/parcours-duo-en-ligne/
CATEGORIES:Parcours Duo
ATTACH;FMTTYPE=image/png:https://espacealpha.org/wp-content/uploads/2023/10/Votre-texte-de-paragraphe-8.png
END:VEVENT
BEGIN:VEVENT
DTSTART;VALUE=DATE:20231202
DTEND;VALUE=DATE:20231203
DTSTAMP:20260424T000821
CREATED:20231107T102547Z
LAST-MODIFIED:20231107T102547Z
UID:7928-1701475200-1701561599@espacealpha.org
SUMMARY:Formation Alpha - Sud Provence Corse - 2 décembre 2023
DESCRIPTION:Si vous souhaitez comprendre\, vous former\, resserrer les liens\, reprendre souffle ensemble\, partager vos expériences\, prier et louer le Seigneur\, lancer ou renouveler votre Parcours\, nous avons le plaisir de vous proposer une formation/rencontre Alpha le samedi 2 décembre à Draguignan. \nProgramme :\nConvivialité\, enseignement\, ateliers\, témoignages \nInscription :\nCliquez ici \nDate et heure :\n2 décembre de 9h à 16h \nLieu :\nMaison des oeuvres\n8 avenue du 4 septembre\n83300 Draguignan \nContact :\nDéléguée Sud Provence : Magali Debats\nmagalidebats@orange.fr
URL:https://espacealpha.org/agenda/formation-alpha-sud-provence-corse-2-decembre-2023/
CATEGORIES:Formation
ATTACH;FMTTYPE=image/jpeg:https://espacealpha.org/wp-content/uploads/2023/11/formation-regionale-sud-provence-corse-2-decembre-2023.jpg
END:VEVENT
BEGIN:VEVENT
DTSTART;VALUE=DATE:20231211
DTEND;VALUE=DATE:20231212
DTSTAMP:20260424T000821
CREATED:20231208T112055Z
LAST-MODIFIED:20231208T112136Z
UID:7962-1702252800-1702339199@espacealpha.org
SUMMARY:Formation Parcours Jeunes et Campus - En ligne
DESCRIPTION:Avec toute votre équipe venez vous former !! \nAu programme : jeux de rôle\, témoignages et conseils pratiques pour réussir au mieux votre Parcours. \nInscriptions : ICI \nSur Zoom !! \nDate et horaires :\nLun. 11 déc. 2023 de 20h00 à 22h00 \nContact : \nEnora Fauvel\n Mail: enora.fauvel@parcoursalpha.fr\n 
URL:https://espacealpha.org/agenda/formation-parcours-jeunes-et-campus-en-ligne/
CATEGORIES:Alpha Campus,Alpha Jeunes,Formation
ATTACH;FMTTYPE=image/png:https://espacealpha.org/wp-content/uploads/2023/12/formation-pour-les-equipes-des-parcours-jeunes-et-campus-en-ligne.png
END:VEVENT
BEGIN:VEVENT
DTSTART;VALUE=DATE:20231214
DTEND;VALUE=DATE:20231215
DTSTAMP:20260424T000821
CREATED:20231027T102520Z
LAST-MODIFIED:20231027T102520Z
UID:7916-1702512000-1702598399@espacealpha.org
SUMMARY:Formation prière – La prière d'intercession dans mon Parcours Alpha (Module 4)
DESCRIPTION:EN LIGNE !  \nCette formation en ligne s’adresse à tous : organisateurs\, équipiers de parcours ! \nAu programme :  \nComment faire la prière d’intercession ?\nPourquoi et comment prier pour le parcours Alpha ?\nComment le Saint Esprit nous guide-t-il dans la prière ? \nInscriptions : ICI \nDate et heure :  \njeu. 14 déc. 2023 de 20h00 à 21h45 \nContact :  \nMarie Anne Weulersse\n Mail: alphaformationenligne@gmail.com
URL:https://espacealpha.org/agenda/formation-priere-la-priere-dintercession-dans-mon-parcours-alpha-module-4/
CATEGORIES:Formation
ATTACH;FMTTYPE=image/jpeg:https://espacealpha.org/wp-content/uploads/2023/10/Formations-priere-visuels-1.jpg
END:VEVENT
END:VCALENDAR