BEGIN:VCALENDAR
VERSION:2.0
PRODID:-//Alpha - ECPv5.8.0//NONSGML v1.0//EN
CALSCALE:GREGORIAN
METHOD:PUBLISH
X-WR-CALNAME:Alpha
X-ORIGINAL-URL:https://espacealpha.org
X-WR-CALDESC:évènements pour Alpha
BEGIN:VTIMEZONE
TZID:UTC
BEGIN:STANDARD
TZOFFSETFROM:+0000
TZOFFSETTO:+0000
TZNAME:UTC
DTSTART:20240101T000000
END:STANDARD
END:VTIMEZONE
BEGIN:VEVENT
DTSTART;VALUE=DATE:20240316
DTEND;VALUE=DATE:20240317
DTSTAMP:20260423T195640
CREATED:20240201T165058Z
LAST-MODIFIED:20240213T110753Z
UID:8028-1710547200-1710633599@espacealpha.org
SUMMARY:Journée Alpha Prison - Paris - 16 mars 2024
DESCRIPTION:Une journée d’échange et de formation autour des Parcours Alpha Prison\nAfin de mieux comprendre ces fruits\, aller plus loin dans l’amélioration de cet outil\, l’association Parcours Alpha France vous invite 16 mars 2024 prochain. \nEchanges\, témoignages\, enseignements et ateliers autour des parcours Alpha Prion ! \nInscriptions : Cliquez ici \nRendez-vous de 9h à 18h ! \nAu programme : \nLouange\nTémoignages (parcours dans les quartiers femmes\, la préparation d’un parcours\,\nl’expérience vécue par un participant sorti)\nAteliers\nEnseignements\nQuestions/réponses \nAdresse : \nSalle paroissiale de St Nicolas des Champs \n49\, rue de Turbigo – 75003 Paris \nAccès : métro 3\, 4 & 11\, RER A & B Châtelet \nContact :\n \nResponsable Parcours Prison : Thierry Saule\nNuméro de téléphone : 06 09 98 30 25\n\nTarif :  \n\n\n\n\n\nGratuit\n\n\n\n\n 
URL:https://espacealpha.org/agenda/journee-alpha-prison-paris-16-mars-2024/
CATEGORIES:Alpha Prison
ATTACH;FMTTYPE=image/png:https://espacealpha.org/wp-content/uploads/2024/02/PRISON-BILLET-WEB.png
END:VEVENT
BEGIN:VEVENT
DTSTART;VALUE=DATE:20240328
DTEND;VALUE=DATE:20240329
DTSTAMP:20260423T195640
CREATED:20240229T163352Z
LAST-MODIFIED:20240229T163352Z
UID:8117-1711584000-1711670399@espacealpha.org
SUMMARY:E-atelier Famille : Et après un Parcours Familles ?
DESCRIPTION:Depuis la rentrée de Septembre vous avez été nombreux à lancer des Parcours Familles\, rendez-vous le 28 mars pour notre avant dernière rencontre sur le thème : « Et après un Parcours Familles » ? \nInscriptions : ICI \nRendez-vous de 20h30 à 21h45 sur Zoom. \n\n\n\n\nContact : \nResponsable Parcours Famille : William Galley\nTel: 07 82 69 55 12\nMail: william.galley@parcoursalpha.fr 
URL:https://espacealpha.org/agenda/e-atelier-famille-et-apres-un-parcours-familles/
CATEGORIES:Parcours Couple,Parcours Duo,Parcours Parents
ATTACH;FMTTYPE=image/jpeg:https://espacealpha.org/wp-content/uploads/2024/02/e-atelier-et-apres-un-parcours-familles-en-ligne.jpg
END:VEVENT
END:VCALENDAR