BEGIN:VCALENDAR
VERSION:2.0
PRODID:-//Alpha - ECPv5.8.0//NONSGML v1.0//EN
CALSCALE:GREGORIAN
METHOD:PUBLISH
X-WR-CALNAME:Alpha
X-ORIGINAL-URL:https://espacealpha.org
X-WR-CALDESC:évènements pour Alpha
BEGIN:VTIMEZONE
TZID:UTC
BEGIN:STANDARD
TZOFFSETFROM:+0000
TZOFFSETTO:+0000
TZNAME:UTC
DTSTART:20240101T000000
END:STANDARD
END:VTIMEZONE
BEGIN:VEVENT
DTSTART;VALUE=DATE:20240826
DTEND;VALUE=DATE:20240827
DTSTAMP:20260423T123716
CREATED:20240626T094251Z
LAST-MODIFIED:20240626T094826Z
UID:8370-1724630400-1724716799@espacealpha.org
SUMMARY:Réunion d'information Parcours Jeune et Campus - 26 août - En ligne
DESCRIPTION:Venez découvrir une nouvelle façon d’animer vos groupes de jeune avec un parcours clé-en-main pensé et fait par des jeunes !\n\n\nObjectif : \nEn découvrir plus sur les Parcours Jeunes et Campus échanger\, répondre ensemble à vos questions.\n\n\nEN LIGNE !\n\n\nInscriptions : ICI\n\n\nDates et horaires : \nLe 26 août de 20h à 21h\n\nTarif : \nOffert\n\nContact : \n\n Enora Fauvel\n Mail: enora.fauvel@parcoursalpha.fr
URL:https://espacealpha.org/agenda/reunion-dinformation-parcours-jeune-et-campus-26-aout-en-ligne/
CATEGORIES:Alpha Campus,Alpha Jeunes
ATTACH;FMTTYPE=image/jpeg:https://espacealpha.org/wp-content/uploads/2024/06/reunion-information-parcours-jeunes-et-campus-en-ligne2.jpg
END:VEVENT
BEGIN:VEVENT
DTSTART;VALUE=DATE:20240827
DTEND;VALUE=DATE:20240828
DTSTAMP:20260423T123716
CREATED:20240726T084046Z
LAST-MODIFIED:20240726T084046Z
UID:8466-1724716800-1724803199@espacealpha.org
SUMMARY:Présentation des Parcours Familles - 27 août - En ligne
DESCRIPTION:Vous êtes responsables de la pastorale familiale\, en charge des familles dans votre église\, soucieux du bien être des couples ou simplement curieux de connaitre cette propositions des parcours couple\, duo et parent par Alpha ?  Vous êtes cordialement invités ! \n  \nAu programme :  \nPrésentation complète des parcours familles par Alpha\, témoignages\, temps de questions \nInscriptions :  ICI \nDates et horaires :  \n27 août  de 09h00 à 10h00 \nEN LIGNE !  \nContact : \n– William Galley\n Mail: william.galley@parcoursalpha.fr
URL:https://espacealpha.org/agenda/presentation-des-parcours-familles-27-aout-en-ligne/
CATEGORIES:Parcours Couple,Parcours Duo,Parcours Parents
ATTACH;FMTTYPE=image/png:https://espacealpha.org/wp-content/uploads/2024/07/presentation-des-parcours-familles-en-ligne.png
END:VEVENT
BEGIN:VEVENT
DTSTART;VALUE=DATE:20240829
DTEND;VALUE=DATE:20240830
DTSTAMP:20260423T123716
CREATED:20240723T102809Z
LAST-MODIFIED:20240723T102809Z
UID:8458-1724889600-1724975999@espacealpha.org
SUMMARY:Soirée de prière pour le lancement des parcours Alpha - 29 août - En ligne
DESCRIPTION:Une soirée de prière qui rassemble notre réseau des parcours Alpha pour confier cette année à Notre Seigneur. \nAu programme  :  \nPartage de la Parole\, louange\, intercession… \nInscriptions : ICI \nDates et horaires :  \nJeu. 29 août de 20h30 à 21h30 \n\nEN LIGNE !\n\nContact : \n\nWilliam Galley\n Mail: william.galley@parcoursalpha.fr \n\n 
URL:https://espacealpha.org/agenda/soiree-de-priere-pour-le-lancement-des-parcours-alpha-29-aout-en-ligne/
ATTACH;FMTTYPE=image/png:https://espacealpha.org/wp-content/uploads/2024/07/soiree-de-priere-pour-le-lancement-des-parcours-alpha-29-aout-2024-1.png
END:VEVENT
END:VCALENDAR