BEGIN:VCALENDAR
VERSION:2.0
PRODID:-//Alpha - ECPv5.8.0//NONSGML v1.0//EN
CALSCALE:GREGORIAN
METHOD:PUBLISH
X-WR-CALNAME:Alpha
X-ORIGINAL-URL:https://espacealpha.org
X-WR-CALDESC:évènements pour Alpha
BEGIN:VTIMEZONE
TZID:UTC
BEGIN:STANDARD
TZOFFSETFROM:+0000
TZOFFSETTO:+0000
TZNAME:UTC
DTSTART:20260101T000000
END:STANDARD
END:VTIMEZONE
BEGIN:VEVENT
DTSTART;VALUE=DATE:20260303
DTEND;VALUE=DATE:20260304
DTSTAMP:20260422T172334
CREATED:20260107T102310Z
LAST-MODIFIED:20260107T102310Z
UID:10008-1772496000-1772582399@espacealpha.org
SUMMARY:Formation B.A. BA - 3 mars - En ligne
DESCRIPTION:Cette formation s’adresse à tous les bénévoles des parcours Alpha (responsables\, orateurs\, animateurs\, cuisinier\, techniciens…) qui s’engagent dans le service des rencontres Alpha.\n\nCette formation courte donne les bases pour organiser une rencontre Alpha. \nC’est une formation dynamique à proposer au plus grand nombre. \nInscriptions : ICI \nDates et horaires :\nMardi 3 mars de 20h à 22h \nContact : \nWilliam Galley:\nwilliam.galley@parcoursalpha.fr
URL:https://espacealpha.org/agenda/formation-b-a-ba-3-mars-en-ligne/
CATEGORIES:Formation
ATTACH;FMTTYPE=image/jpeg:https://espacealpha.org/wp-content/uploads/2026/01/formation-b-a-ba-3-mars-2026.jpg
END:VEVENT
BEGIN:VEVENT
DTSTART;VALUE=DATE:20260317
DTEND;VALUE=DATE:20260318
DTSTAMP:20260422T172334
CREATED:20260107T103010Z
LAST-MODIFIED:20260107T103010Z
UID:10012-1773705600-1773791999@espacealpha.org
SUMMARY:Formation Parcours Jeunes - 17 mars - En ligne
DESCRIPTION:Venez avec votre équipe et vos jeunes en responsabilités vous former a la mise en place d’un parcours Alpha Jeunes !\n\nL’idée est de vous introduire aux fondamentaux d’Alpha tout en adaptant cela à un public jeune.\n\nAu programme : en apprendre plus sur la génération Z (12-25 ans)\, voir les temps forts d’une soirée Alpha\, et échanger des bonnes pratiques tous ensemble ! \nOn a hâte de vous voir. \nInscriptions : ICI \n\nDates et horaires :\n \n\n\nmar. 17 mars 2026 de 20h00 à 22h00\n\n\nEN LIGNE !  \nContact :\n \nEnora Del Castillo\n Mail: enora.fauvel@parcoursalpha.fr
URL:https://espacealpha.org/agenda/formation-parcours-jeunes-17-mars-en-ligne/
CATEGORIES:Formation
ATTACH;FMTTYPE=image/jpeg:https://espacealpha.org/wp-content/uploads/2026/01/formation-parcours-jeunes-17-mars-2026.jpg
END:VEVENT
BEGIN:VEVENT
DTSTART;VALUE=DATE:20260319
DTEND;VALUE=DATE:20260320
DTSTAMP:20260422T172334
CREATED:20260107T103457Z
LAST-MODIFIED:20260213T175227Z
UID:10015-1773878400-1773964799@espacealpha.org
SUMMARY:Temps de découverte des parcours Alpha – 19/03 à 14h – En ligne
DESCRIPTION:Venez découvrir les parcours Alpha\, une expérience unique missionnaire. \nVous pourrez choisir le type de parcours qui vous intéresse : parcours Alpha\, parcours Alpha jeunes ou parcours pour les couples et les familles. \n\nOccasion d’écouter des témoignages\, d’entendre les responsables nationaux d’Alpha en France vous présenter les objectifs et les conditions de mise en œuvre des parcours et de répondre à vos questions.\n\nInscriptions : ICI\n\nDates et horaires : \n\n\njeu. 19 mars 2026 de 14h00 à 15h00\n\n\nContact :\n \nWilliam Galley\n Mail: william.galley@parcoursalpha.fr 
URL:https://espacealpha.org/agenda/temps-de-decouverte-des-parcours-alpha-19-03-14h-a-15h-en-ligne/
ATTACH;FMTTYPE=image/jpeg:https://espacealpha.org/wp-content/uploads/2026/01/temps-de-decouverte-des-parcours-alpha-19-mars-2026-1.jpg
END:VEVENT
BEGIN:VEVENT
DTSTART;VALUE=DATE:20260319
DTEND;VALUE=DATE:20260320
DTSTAMP:20260422T172334
CREATED:20260107T103915Z
LAST-MODIFIED:20260107T104600Z
UID:10018-1773878400-1773964799@espacealpha.org
SUMMARY:Temps de découverte des parcours Alpha – 19/03 à 20h – En ligne
DESCRIPTION:Venez découvrir les parcours Alpha\, une expérience unique missionnaire. \nVous pourrez choisir le type de parcours qui vous intéresse : parcours Alpha\, parcours Alpha jeunes ou parcours pour les couples et les familles. \n\nOccasion d’écouter des témoignages\, d’entendre les responsables nationaux d’Alpha en France vous présenter les objectifs et les conditions de mise en œuvre des parcours et de répondre à vos questions.\n\nInscriptions : ICI\n\nDates et horaires : \n\n\n\n\njeu. 19 mars 2026 de 20h00 à 21h00\n\n\n\n\nContact :\n \nWilliam Galley\n Mail: william.galley@parcoursalpha.fr 
URL:https://espacealpha.org/agenda/temps-de-decouverte-des-parcours-alpha-19-03-a-20h-en-ligne/
ATTACH;FMTTYPE=image/jpeg:https://espacealpha.org/wp-content/uploads/2026/01/temps-de-decouverte-des-parcours-alpha-19-mars-2026-soir.jpg
END:VEVENT
BEGIN:VEVENT
DTSTART;VALUE=DATE:20260324
DTEND;VALUE=DATE:20260325
DTSTAMP:20260422T172334
CREATED:20260107T104323Z
LAST-MODIFIED:20260107T104323Z
UID:10023-1774310400-1774396799@espacealpha.org
SUMMARY:Formation à l'accueil des personnes vulnérables - 24 mars - En ligne
DESCRIPTION:Durant ce module de formation\, nous aurons l’occasion de réfléchir avec les organisateurs et leurs équipes à la place donnée aux personnes démunies\, malades\, blessées\, précaires… Nous réfléchirons de quelle manière les accueillir\, les moyens nécessaires et nos techniques d’invitation de ces publics.\nUne formation indispensable pour nous redire cette option préférentielle pour les plus pauvres.\n\nInscriptions : ICI \n\nDates et horaires : \nMar.24 mars de 20h à 21h30\n\nEN LIGNE !\n\nContact : \nWilliam Galley:\nwilliam.galley@parcoursalpha.fr
URL:https://espacealpha.org/agenda/formation-a-laccueil-des-personnes-vulnerables-24-mars-en-ligne/
ATTACH;FMTTYPE=image/jpeg:https://espacealpha.org/wp-content/uploads/2026/01/formation-a-laccueil-des-personnes-vulnerables-dans-un-parcours-alpha-24-mars-2026.jpg
END:VEVENT
BEGIN:VEVENT
DTSTART;VALUE=DATE:20260328
DTEND;VALUE=DATE:20260329
DTSTAMP:20260422T172334
CREATED:20250717T142031Z
LAST-MODIFIED:20251127T154220Z
UID:9644-1774656000-1774742399@espacealpha.org
SUMMARY:Journée Alpha Prison - 28 mars 2026 - Paris
DESCRIPTION:Echanges\, témoignages\, enseignements et ateliers autour des Parcours Alpha Prison. \nInscriptions : ICI \nDates et horaires :  \nsam. 28 mars 2026 de 09h00 à 17h30\n\nLieu : \n\n92bis Bd du Montparnasse\, 75014 Paris \n\n\nContact : \n\nResponsable Parcours Prison : Thierry Saule\nMail: thierry.saule@parcoursalpha.fr
URL:https://espacealpha.org/agenda/journee-alpha-prison-28-mars-2026-paris/
CATEGORIES:Alpha Prison
ATTACH;FMTTYPE=image/png:https://espacealpha.org/wp-content/uploads/2025/07/Billet-Web-Journee-29-janvier.png
END:VEVENT
END:VCALENDAR